BEGIN:VCALENDAR
VERSION:2.0
PRODID:-//Library Market//iCal Export//EN
BEGIN:VEVENT
SUMMARY:Story &amp; Play!
UID:10421
DTSTAMP:20260421T170000Z
DTSTART:20260728T150000Z
DTEND:20260728T160000Z
LOCATION:Monona Public Library, 1000 Nichols Road, Monona, WI 53716, Unite
 d States
ROOM: Storytime Room
DESCRIPTION: Family Friendly Storytime followed by Open Play!Back by popu
 lar demand, join us for this Summer Favorite!Crescendo Coffee will be avai
 lable for purchase from their mobile cafe.Children of all ages are welcome
  with their caregivers to listen to an engaging story, dance, and play!Per
 fect for families, nannies, and home daycare groups with multi-aged childr
 en.No registration needed.Drop-in.Free.No drop-offs, caregivers must stay 
 with their child at all times. Pending weather, we may host open play in t
 he green space outside the children&#039;s entrance off Schluter Rd. 
URL:https://monona.librarycalendar.com/event/story-play-10421
END:VEVENT
END:VCALENDAR
