BEGIN:VCALENDAR
VERSION:2.0
PRODID:-//Library Market//iCal Export//EN
BEGIN:VEVENT
SUMMARY:Little Scientists
UID:10425
DTSTAMP:20260422T165400Z
DTSTART:20260629T150000Z
DTEND:20260629T160000Z
LOCATION:Monona Public Library, 1000 Nichols Road, Monona, WI 53716, Unite
 d States
ROOM: Storytime Room
DESCRIPTION:SCIENCE Play for Little Ones!Young scientists, ages 3 - 5 year
 s old, will use their senses to explore the world around them! Older sibli
 ngs and friends are welcome. Fun experiments, sensory play, and crafts en
 courage curiosity. Not intended for children under 3 years of age due to s
 mall pieces that may pose a choke hazard. Drop in, and no registration is
  necessary.Weather permitting, we may meet outside in the green space off 
 of Schluter Rd. by the children&#039;s room entrance. Visit us on Facebook
  or Instagram for updates.  
URL:https://monona.librarycalendar.com/event/little-scientists-10425
END:VEVENT
END:VCALENDAR
